BEGIN:VCALENDAR
VERSION:2.0
PRODID:-//Camino Verde – Aktivitäten &amp; Naturerlebnisse auf La Palma - ECPv6.15.20//NONSGML v1.0//EN
CALSCALE:GREGORIAN
METHOD:PUBLISH
X-ORIGINAL-URL:https://camino-verde.eu
X-WR-CALDESC:Veranstaltungen für Camino Verde – Aktivitäten &amp; Naturerlebnisse auf La Palma
REFRESH-INTERVAL;VALUE=DURATION:PT1H
X-Robots-Tag:noindex
X-PUBLISHED-TTL:PT1H
BEGIN:VTIMEZONE
TZID:Europe/Lisbon
BEGIN:DAYLIGHT
TZOFFSETFROM:+0000
TZOFFSETTO:+0100
TZNAME:WEST
DTSTART:20240331T010000
END:DAYLIGHT
BEGIN:STANDARD
TZOFFSETFROM:+0100
TZOFFSETTO:+0000
TZNAME:WET
DTSTART:20241027T010000
END:STANDARD
BEGIN:DAYLIGHT
TZOFFSETFROM:+0000
TZOFFSETTO:+0100
TZNAME:WEST
DTSTART:20250330T010000
END:DAYLIGHT
BEGIN:STANDARD
TZOFFSETFROM:+0100
TZOFFSETTO:+0000
TZNAME:WET
DTSTART:20251026T010000
END:STANDARD
BEGIN:DAYLIGHT
TZOFFSETFROM:+0000
TZOFFSETTO:+0100
TZNAME:WEST
DTSTART:20260329T010000
END:DAYLIGHT
BEGIN:STANDARD
TZOFFSETFROM:+0100
TZOFFSETTO:+0000
TZNAME:WET
DTSTART:20261025T010000
END:STANDARD
END:VTIMEZONE
BEGIN:VTIMEZONE
TZID:Europe/London
BEGIN:DAYLIGHT
TZOFFSETFROM:+0000
TZOFFSETTO:+0100
TZNAME:BST
DTSTART:20240331T010000
END:DAYLIGHT
BEGIN:STANDARD
TZOFFSETFROM:+0100
TZOFFSETTO:+0000
TZNAME:GMT
DTSTART:20241027T010000
END:STANDARD
BEGIN:DAYLIGHT
TZOFFSETFROM:+0000
TZOFFSETTO:+0100
TZNAME:BST
DTSTART:20250330T010000
END:DAYLIGHT
BEGIN:STANDARD
TZOFFSETFROM:+0100
TZOFFSETTO:+0000
TZNAME:GMT
DTSTART:20251026T010000
END:STANDARD
BEGIN:DAYLIGHT
TZOFFSETFROM:+0000
TZOFFSETTO:+0100
TZNAME:BST
DTSTART:20260329T010000
END:DAYLIGHT
BEGIN:STANDARD
TZOFFSETFROM:+0100
TZOFFSETTO:+0000
TZNAME:GMT
DTSTART:20261025T010000
END:STANDARD
END:VTIMEZONE
BEGIN:VEVENT
DTSTART;TZID=Europe/Lisbon:20251115T100000
DTEND;TZID=Europe/Lisbon:20251115T220000
DTSTAMP:20260425T144740
CREATED:20251113T143407Z
LAST-MODIFIED:20251113T143407Z
UID:14523-1763200800-1763244000@camino-verde.eu
SUMMARY:Hofmarkt Camino verde
DESCRIPTION:Hofmarkt Camino verde\nTagesplan Samstag 22.11.25\n________________________________________________ \nAlle Aktivitäten – bitte anmelden\n• 11:00 – 12.00 \nSitzyoga für Ältere und körperlich Eingeschränkte – Melissa \n• 11:00-12:00 & 17:00 \nrestoratives Flying Pilates mit Simone  \n• ab 13:00-  \nKinderbetreuung mit Melissa! Voranmeldung notwendig \n• 12-16:00:  \nBaumwolle der finca spinnt Bettina mit euch \n• 11:30 – 17:00 \nMiSha macht Energy touch massage \n• 11:00 – 16:00  \nKunst-Postkartenstempel toll! macht Leon \n• 11:00-17:00 \nMoira mit Keramik \n________________________________________________ \nmercado\n• 13:00-17:00  \nAnnette mit selbstgemachtem Edelsteinschmuck \n• 10:00- 1:00  \nRastro mit Claudia in der Bodega \n• ab 10:00  \nGemüse und Obst\, je nach Ernte \n• ab 10:00  \nProdukte der finca: Marmeladen\, Liköre\, Säfte\, Sirup\, Kombucha\, Wasserkefir\, mojo verde\, Alioli und vielleicht noch andere Leckereien \n• 12:00 bis 17:00  \nSylvia herzhaften Eintopf \n• 12:00 bis… \nKidja mit veganen und Rohkost- Torten  \n• 10:00…. \nAlejandro mit „eingeborenem“ Brot aus Gran Canaria  \n• Rita \nnäht Euch die schönsten Sachen\, zB Taschen- Kissen.. \n• um 18:30 \nLA VOZ DE TARA – Konzert \n____________________________________________ \nund schon kommt die Zukunft\n• Leon \nbietet weitere Kunstkurse an – redet mit ihm \n• Moira \ntherapeutische Arbeit mit Ton \nTon und Kakakozeremonien \n• Misha \nverwöhnt euch mit energy-touch massage \n• Annette \nmacht Edelsteinmassage & bietet Kurse zur Schmuckherstellung – bitte mit ihr absprechen \n• Bettina \nmacht Armbänder & Traumfänger & aus Garn und Perlen \nWeb und Spinnkurs \n• Claudia \nHerz-Chakrameditation  \n• Frei \nmacht hoffentlich bald Filmabende
URL:https://camino-verde.eu/event/hofmarkt-camino-verde/
CATEGORIES:helma
ATTACH;FMTTYPE=image/jpeg:https://camino-verde.eu/wp-content/uploads/2025/11/market-4856748_1280.webp
END:VEVENT
BEGIN:VEVENT
DTSTART;TZID=Europe/London:20250831T180000
DTEND;TZID=Europe/London:20250831T193000
DTSTAMP:20260425T144740
CREATED:20250827T191414Z
LAST-MODIFIED:20250827T191414Z
UID:14203-1756663200-1756668600@camino-verde.eu
SUMMARY:flying pilates & baño de sonido
DESCRIPTION:
URL:https://camino-verde.eu/event/flying-pilates-bano-de-sonido/
LOCATION:Finca Norte
CATEGORIES:simone
ATTACH;FMTTYPE=image/jpeg:https://camino-verde.eu/wp-content/uploads/2025/08/Flying-Pilates-y-bano-de-sonido.webp
END:VEVENT
BEGIN:VEVENT
DTSTART;TZID=Europe/London:20250830T160000
DTEND;TZID=Europe/London:20250830T180000
DTSTAMP:20260425T144740
CREATED:20250826T094554Z
LAST-MODIFIED:20250826T094554Z
UID:14168-1756569600-1756576800@camino-verde.eu
SUMMARY:Finca Führung
DESCRIPTION:[DE] Jeden Samstag mit speziellem Thema – anschliessend kleiner Umtrunk \n[EN] Finca tour – every Saturday with a special theme – followed by light refreshments \n[ES] Visita guiada a la finca: todos los sábados con un tema especial\, seguida de un pequeño refrigerio \n 
URL:https://camino-verde.eu/event/finca-fuehrung/
LOCATION:Finca Norte
CATEGORIES:helma
END:VEVENT
END:VCALENDAR